BEGIN:VCALENDAR
VERSION:2.0
PRODID:-//jEvents 2.0 for Joomla//EN
CALSCALE:GREGORIAN
METHOD:PUBLISH
BEGIN:VTIMEZONE
TZID:Europe/Berlin
BEGIN:STANDARD
DTSTART:20211031T020000
RDATE:20220327T030000
TZOFFSETFROM:+0200
TZOFFSETTO:+0100
TZNAME:Europe/Berlin CET
END:STANDARD
BEGIN:STANDARD
DTSTART:20221030T020000
RDATE:20230326T030000
TZOFFSETFROM:+0200
TZOFFSETTO:+0100
TZNAME:Europe/Berlin CET
END:STANDARD
BEGIN:STANDARD
DTSTART:20231029T020000
RDATE:20240331T030000
TZOFFSETFROM:+0200
TZOFFSETTO:+0100
TZNAME:Europe/Berlin CET
END:STANDARD
BEGIN:STANDARD
DTSTART:20241027T020000
RDATE:20250330T030000
TZOFFSETFROM:+0200
TZOFFSETTO:+0100
TZNAME:Europe/Berlin CET
END:STANDARD
BEGIN:STANDARD
DTSTART:20251026T020000
RDATE:20260329T030000
TZOFFSETFROM:+0200
TZOFFSETTO:+0100
TZNAME:Europe/Berlin CET
END:STANDARD
BEGIN:DAYLIGHT
DTSTART:20210715T000000
RDATE:20211031T020000
TZOFFSETFROM:+0100
TZOFFSETTO:+0200
TZNAME:Europe/Berlin CEST
END:DAYLIGHT
BEGIN:DAYLIGHT
DTSTART:20220327T030000
RDATE:20221030T020000
TZOFFSETFROM:+0100
TZOFFSETTO:+0200
TZNAME:Europe/Berlin CEST
END:DAYLIGHT
BEGIN:DAYLIGHT
DTSTART:20230326T030000
RDATE:20231029T020000
TZOFFSETFROM:+0100
TZOFFSETTO:+0200
TZNAME:Europe/Berlin CEST
END:DAYLIGHT
BEGIN:DAYLIGHT
DTSTART:20240331T030000
RDATE:20241027T020000
TZOFFSETFROM:+0100
TZOFFSETTO:+0200
TZNAME:Europe/Berlin CEST
END:DAYLIGHT
BEGIN:DAYLIGHT
DTSTART:20250330T030000
RDATE:20251026T020000
TZOFFSETFROM:+0100
TZOFFSETTO:+0200
TZNAME:Europe/Berlin CEST
END:DAYLIGHT
END:VTIMEZONE
BEGIN:VEVENT
UID:b7582afad40ee3899fd4520af2903073
CATEGORIES:Volleyball
CREATED:20220709T224426
SUMMARY:Volleyball Schnupperkurs Ferienpass
LOCATION:Karl-Marx-Schule
DESCRIPTION;ENCODING=QUOTED-PRINTABLE:<p>Volleyball Schnupperkurs für alle ab 6 Jahre...Interesse einfach melden 
 <span id="cloak28ca579a564e4bf87acac050702cb5e4">Diese E-Mail-Adresse ist v
 or Spambots geschützt! Zur Anzeige muss JavaScript eingeschaltet sein!</spa
 n><script type='text/javascript'>
				document.getElementById('cloak28ca579
 a564e4bf87acac050702cb5e4').innerHTML = '';
				var prefix = '&#109;a' + 'i
 &#108;' + '&#116;o';
				var path = 'hr' + 'ef' + '=';
				var addy28ca579a
 564e4bf87acac050702cb5e4 = '...V&#111;ll&#101;yb&#97;ll' + '&#64;';
				add
 y28ca579a564e4bf87acac050702cb5e4 = addy28ca579a564e4bf87acac050702cb5e4 + 
 'v&#111;ll&#101;yb&#97;ll-w&#111;&#101;lf&#101;-br&#101;m&#101;rh&#97;v&#10
 1;n' + '&#46;' + 'd&#101;';
				var addy_text28ca579a564e4bf87acac050702cb5
 e4 = '...V&#111;ll&#101;yb&#97;ll' + '&#64;' + 'v&#111;ll&#101;yb&#97;ll-w&
 #111;&#101;lf&#101;-br&#101;m&#101;rh&#97;v&#101;n' + '&#46;' + 'd&#101;';d
 ocument.getElementById('cloak28ca579a564e4bf87acac050702cb5e4').innerHTML +
 = '<a ' + path + '\'' + prefix + ':' + addy28ca579a564e4bf87acac050702cb5e4
  + '\'>'+addy_text28ca579a564e4bf87acac050702cb5e4+'<\/a>';
		</script></p>
CONTACT:Diese E-Mail-Adresse ist vor Spambots geschützt! Zur Anzeige muss JavaScript eingeschaltet sein!
				document.getElementById('cloaka98c6382ad82051a61f3d1bca7cde8eb').innerHTML = '';
				var prefix = '&#109;a' + 'i&#108;' + '&#116;o';
				var path = 'hr' + 'ef' + '=';
				var addya98c6382ad82051a61f3d1bca7cde8eb = 'v&#111;ll&#101;yb&#97;ll' + '&#64;';
				addya98c6382ad82051a61f3d1bca7cde8eb = addya98c6382ad82051a61f3d1bca7cde8eb + 'v&#111;ll&#101;yb&#97;ll-w&#111;&#101;lf&#101;-br&#101;m&#101;rh&#97;v&#101;n' + '&#46;' + 'd&#101;';
				var addy_texta98c6382ad82051a61f3d1bca7cde8eb = 'v&#111;ll&#101;yb&#97;ll' + '&#64;' + 'v&#111;ll&#101;yb&#97;ll-w&#111;&#101;lf&#101;-br&#101;m&#101;rh&#97;v&#101;n' + '&#46;' + 'd&#101;';document.getElementById('cloaka98c6382ad82051a61f3d1bca7cde8eb').innerHTML += ''+addy_texta98c6382ad82051a61f3d1bca7cde8eb+'';
		 
DTSTAMP:20260420T060132Z
DTSTART;TZID=Europe/Berlin;VALUE=DATE:20220716
DTEND;TZID=Europe/Berlin;VALUE=DATE:20220717
SEQUENCE:0
TRANSP:OPAQUE
END:VEVENT
END:VCALENDAR