BEGIN:VCALENDAR
VERSION:2.0
PRODID:-//jEvents 2.0 for Joomla//EN
CALSCALE:GREGORIAN
METHOD:PUBLISH
BEGIN:VTIMEZONE
TZID:Europe/Berlin
BEGIN:STANDARD
DTSTART:20211031T020000
RDATE:20220327T030000
TZOFFSETFROM:+0200
TZOFFSETTO:+0100
TZNAME:Europe/Berlin CET
END:STANDARD
BEGIN:STANDARD
DTSTART:20221030T020000
RDATE:20230326T030000
TZOFFSETFROM:+0200
TZOFFSETTO:+0100
TZNAME:Europe/Berlin CET
END:STANDARD
BEGIN:STANDARD
DTSTART:20231029T020000
RDATE:20240331T030000
TZOFFSETFROM:+0200
TZOFFSETTO:+0100
TZNAME:Europe/Berlin CET
END:STANDARD
BEGIN:STANDARD
DTSTART:20241027T020000
RDATE:20250330T030000
TZOFFSETFROM:+0200
TZOFFSETTO:+0100
TZNAME:Europe/Berlin CET
END:STANDARD
BEGIN:STANDARD
DTSTART:20251026T020000
RDATE:20260329T030000
TZOFFSETFROM:+0200
TZOFFSETTO:+0100
TZNAME:Europe/Berlin CET
END:STANDARD
BEGIN:DAYLIGHT
DTSTART:20210716T000000
RDATE:20211031T020000
TZOFFSETFROM:+0100
TZOFFSETTO:+0200
TZNAME:Europe/Berlin CEST
END:DAYLIGHT
BEGIN:DAYLIGHT
DTSTART:20220327T030000
RDATE:20221030T020000
TZOFFSETFROM:+0100
TZOFFSETTO:+0200
TZNAME:Europe/Berlin CEST
END:DAYLIGHT
BEGIN:DAYLIGHT
DTSTART:20230326T030000
RDATE:20231029T020000
TZOFFSETFROM:+0100
TZOFFSETTO:+0200
TZNAME:Europe/Berlin CEST
END:DAYLIGHT
BEGIN:DAYLIGHT
DTSTART:20240331T030000
RDATE:20241027T020000
TZOFFSETFROM:+0100
TZOFFSETTO:+0200
TZNAME:Europe/Berlin CEST
END:DAYLIGHT
BEGIN:DAYLIGHT
DTSTART:20250330T030000
RDATE:20251026T020000
TZOFFSETFROM:+0100
TZOFFSETTO:+0200
TZNAME:Europe/Berlin CEST
END:DAYLIGHT
END:VTIMEZONE
BEGIN:VEVENT
UID:efd06c892c88b236f3f15439b525fb7f
CATEGORIES:Volleyball
CREATED:20220709T224950
SUMMARY:Volleyball Schnupperkurs Ferienpass
LOCATION:Karl-Marx-Schule
DESCRIPTION;ENCODING=QUOTED-PRINTABLE:<p>Volleyball Schnupperkurs für alle ab 6 Jahre...9 Jahre...14 jahre und äl
 ter...Interesse? <span id="cloak1cb0816e47e95dec254d2830b6d77243">Diese E-M
 ail-Adresse ist vor Spambots geschützt! Zur Anzeige muss JavaScript eingesc
 haltet sein!</span><script type='text/javascript'>
				document.getElementB
 yId('cloak1cb0816e47e95dec254d2830b6d77243').innerHTML = '';
				var prefix
  = '&#109;a' + 'i&#108;' + '&#116;o';
				var path = 'hr' + 'ef' + '=';
			
 	var addy1cb0816e47e95dec254d2830b6d77243 = 'V&#111;ll&#101;yb&#97;ll' + '&
 #64;';
				addy1cb0816e47e95dec254d2830b6d77243 = addy1cb0816e47e95dec254d2
 830b6d77243 + 'v&#111;ll&#101;yb&#97;ll-w&#111;&#101;lf&#101;-br&#101;m&#10
 1;rh&#97;v&#101;n' + '&#46;' + 'd&#101;';
				var addy_text1cb0816e47e95dec
 254d2830b6d77243 = 'V&#111;ll&#101;yb&#97;ll' + '&#64;' + 'v&#111;ll&#101;y
 b&#97;ll-w&#111;&#101;lf&#101;-br&#101;m&#101;rh&#97;v&#101;n' + '&#46;' + 
 'd&#101;';document.getElementById('cloak1cb0816e47e95dec254d2830b6d77243').
 innerHTML += '<a ' + path + '\'' + prefix + ':' + addy1cb0816e47e95dec254d2
 830b6d77243 + '\'>'+addy_text1cb0816e47e95dec254d2830b6d77243+'<\/a>';
		</
 script></p>
CONTACT:Diese E-Mail-Adresse ist vor Spambots geschützt! Zur Anzeige muss JavaScript eingeschaltet sein!
				document.getElementById('cloakc758d4f1944c46d9bfb087a4d5358bdb').innerHTML = '';
				var prefix = '&#109;a' + 'i&#108;' + '&#116;o';
				var path = 'hr' + 'ef' + '=';
				var addyc758d4f1944c46d9bfb087a4d5358bdb = 'v&#111;ll&#101;yb&#97;ll' + '&#64;';
				addyc758d4f1944c46d9bfb087a4d5358bdb = addyc758d4f1944c46d9bfb087a4d5358bdb + 'v&#111;ll&#101;yb&#97;ll-w&#111;&#101;lf&#101;-br&#101;m&#101;rh&#97;v&#101;n' + '&#46;' + 'd&#101;';
				var addy_textc758d4f1944c46d9bfb087a4d5358bdb = 'v&#111;ll&#101;yb&#97;ll' + '&#64;' + 'v&#111;ll&#101;yb&#97;ll-w&#111;&#101;lf&#101;-br&#101;m&#101;rh&#97;v&#101;n' + '&#46;' + 'd&#101;';document.getElementById('cloakc758d4f1944c46d9bfb087a4d5358bdb').innerHTML += ''+addy_textc758d4f1944c46d9bfb087a4d5358bdb+'';
		 
DTSTAMP:20260420T064352Z
DTSTART;TZID=Europe/Berlin;VALUE=DATE:20220717
DTEND;TZID=Europe/Berlin;VALUE=DATE:20220718
SEQUENCE:0
TRANSP:OPAQUE
END:VEVENT
END:VCALENDAR