BEGIN:VCALENDAR
VERSION:2.0
PRODID:-//jEvents 2.0 for Joomla//EN
CALSCALE:GREGORIAN
METHOD:PUBLISH
BEGIN:VTIMEZONE
TZID:Europe/Berlin
BEGIN:STANDARD
DTSTART:20151204T080000
RDATE:20160327T030000
TZOFFSETFROM:+0200
TZOFFSETTO:+0100
TZNAME:Europe/Berlin CET
END:STANDARD
BEGIN:STANDARD
DTSTART:20161030T020000
RDATE:20170326T030000
TZOFFSETFROM:+0200
TZOFFSETTO:+0100
TZNAME:Europe/Berlin CET
END:STANDARD
BEGIN:STANDARD
DTSTART:20171029T020000
RDATE:20180325T030000
TZOFFSETFROM:+0200
TZOFFSETTO:+0100
TZNAME:Europe/Berlin CET
END:STANDARD
BEGIN:STANDARD
DTSTART:20181028T020000
RDATE:20190331T030000
TZOFFSETFROM:+0200
TZOFFSETTO:+0100
TZNAME:Europe/Berlin CET
END:STANDARD
BEGIN:STANDARD
DTSTART:20191027T020000
RDATE:20200329T030000
TZOFFSETFROM:+0200
TZOFFSETTO:+0100
TZNAME:Europe/Berlin CET
END:STANDARD
BEGIN:STANDARD
DTSTART:20201025T020000
RDATE:20210328T030000
TZOFFSETFROM:+0200
TZOFFSETTO:+0100
TZNAME:Europe/Berlin CET
END:STANDARD
BEGIN:STANDARD
DTSTART:20211031T020000
RDATE:20220327T030000
TZOFFSETFROM:+0200
TZOFFSETTO:+0100
TZNAME:Europe/Berlin CET
END:STANDARD
BEGIN:STANDARD
DTSTART:20221030T020000
RDATE:20230326T030000
TZOFFSETFROM:+0200
TZOFFSETTO:+0100
TZNAME:Europe/Berlin CET
END:STANDARD
BEGIN:STANDARD
DTSTART:20231029T020000
RDATE:20240331T030000
TZOFFSETFROM:+0200
TZOFFSETTO:+0100
TZNAME:Europe/Berlin CET
END:STANDARD
BEGIN:STANDARD
DTSTART:20241027T020000
RDATE:20250330T030000
TZOFFSETFROM:+0200
TZOFFSETTO:+0100
TZNAME:Europe/Berlin CET
END:STANDARD
BEGIN:STANDARD
DTSTART:20251026T020000
RDATE:20260329T030000
TZOFFSETFROM:+0200
TZOFFSETTO:+0100
TZNAME:Europe/Berlin CET
END:STANDARD
BEGIN:DAYLIGHT
DTSTART:20160327T030000
RDATE:20161030T020000
TZOFFSETFROM:+0100
TZOFFSETTO:+0200
TZNAME:Europe/Berlin CEST
END:DAYLIGHT
BEGIN:DAYLIGHT
DTSTART:20170326T030000
RDATE:20171029T020000
TZOFFSETFROM:+0100
TZOFFSETTO:+0200
TZNAME:Europe/Berlin CEST
END:DAYLIGHT
BEGIN:DAYLIGHT
DTSTART:20180325T030000
RDATE:20181028T020000
TZOFFSETFROM:+0100
TZOFFSETTO:+0200
TZNAME:Europe/Berlin CEST
END:DAYLIGHT
BEGIN:DAYLIGHT
DTSTART:20190331T030000
RDATE:20191027T020000
TZOFFSETFROM:+0100
TZOFFSETTO:+0200
TZNAME:Europe/Berlin CEST
END:DAYLIGHT
BEGIN:DAYLIGHT
DTSTART:20200329T030000
RDATE:20201025T020000
TZOFFSETFROM:+0100
TZOFFSETTO:+0200
TZNAME:Europe/Berlin CEST
END:DAYLIGHT
BEGIN:DAYLIGHT
DTSTART:20210328T030000
RDATE:20211031T020000
TZOFFSETFROM:+0100
TZOFFSETTO:+0200
TZNAME:Europe/Berlin CEST
END:DAYLIGHT
BEGIN:DAYLIGHT
DTSTART:20220327T030000
RDATE:20221030T020000
TZOFFSETFROM:+0100
TZOFFSETTO:+0200
TZNAME:Europe/Berlin CEST
END:DAYLIGHT
BEGIN:DAYLIGHT
DTSTART:20230326T030000
RDATE:20231029T020000
TZOFFSETFROM:+0100
TZOFFSETTO:+0200
TZNAME:Europe/Berlin CEST
END:DAYLIGHT
BEGIN:DAYLIGHT
DTSTART:20240331T030000
RDATE:20241027T020000
TZOFFSETFROM:+0100
TZOFFSETTO:+0200
TZNAME:Europe/Berlin CEST
END:DAYLIGHT
BEGIN:DAYLIGHT
DTSTART:20250330T030000
RDATE:20251026T020000
TZOFFSETFROM:+0100
TZOFFSETTO:+0200
TZNAME:Europe/Berlin CEST
END:DAYLIGHT
END:VTIMEZONE
BEGIN:VEVENT
UID:92ff40013a9c1830c8ef9ed70489013d
CATEGORIES:Volleyball
CREATED:20160617T224100
SUMMARY:Volleyball SFL Mixed Nikolausturnier 
LOCATION:CVO Bremerhaven
DESCRIPTION;ENCODING=QUOTED-PRINTABLE:<p>SFL Mixed - Volleyball - 4 Feld - Turnier am</p><p>4.12.2016</p><p>hierz
 u laden wir Euch herzlich ein</p><p>Spielmodus : Mindestens zwei Frauen pro
  Team/Frauenteam</p><p>Spielbeginn: 10.00 Uhr, Hallenöffnung ab 9.00 Uhr</p
 ><p>Anmeldeschluss bei der Turnierleitung: 9.30 Uhr</p><p>Spielort: Schulze
 ntrum Carl von Ossietzky, 4 Felder</p><p>Schiffdorfer Chaussee 97, Bremerha
 ven</p><p>Meldegebühr: 25.- € Bei Nichtantritt keine Erstattung.</p><p>Meld
 eschluss: 20.11.2016 .</p><p>Ein leckeres Buffet, steht wie immer für euch 
 bereit!</p><p>Meldungen an:</p><p><span id="cloak320dcbd7c5d996bf352c51c541
 f6dd93">Diese E-Mail-Adresse ist vor Spambots geschützt! Zur Anzeige muss J
 avaScript eingeschaltet sein!</span><script type='text/javascript'>
				doc
 ument.getElementById('cloak320dcbd7c5d996bf352c51c541f6dd93').innerHTML = '
 ';
				var prefix = '&#109;a' + 'i&#108;' + '&#116;o';
				var path = 'hr' 
 + 'ef' + '=';
				var addy320dcbd7c5d996bf352c51c541f6dd93 = 'SFL-V&#111;ll
 &#101;yb&#97;ll' + '&#64;';
				addy320dcbd7c5d996bf352c51c541f6dd93 = addy
 320dcbd7c5d996bf352c51c541f6dd93 + 'gmx' + '&#46;' + 'd&#101;';
				var add
 y_text320dcbd7c5d996bf352c51c541f6dd93 = 'SFL-V&#111;ll&#101;yb&#97;ll' + '
 &#64;' + 'gmx' + '&#46;' + 'd&#101;';document.getElementById('cloak320dcbd7
 c5d996bf352c51c541f6dd93').innerHTML += '<a ' + path + '\'' + prefix + ':' 
 + addy320dcbd7c5d996bf352c51c541f6dd93 + '\'>'+addy_text320dcbd7c5d996bf352
 c51c541f6dd93+'<\/a>';
		</script></p><p>Wir freuen uns, auf einen spannend
 en Volleyballsonntag!</p><p>Eure SFL Volleyballer</p><p>http://www.sfl-brem
 erhaven.de/</p><p>Facebook: Volleyball im SFL Bremerhaven e.V. Mail: <span 
 id="cloakd610229e3db20bcbee2754f935e3b691">Diese E-Mail-Adresse ist vor Spa
 mbots geschützt! Zur Anzeige muss JavaScript eingeschaltet sein!</span><scr
 ipt type='text/javascript'>
				document.getElementById('cloakd610229e3db20
 bcbee2754f935e3b691').innerHTML = '';
				var prefix = '&#109;a' + 'i&#108;
 ' + '&#116;o';
				var path = 'hr' + 'ef' + '=';
				var addyd610229e3db20b
 cbee2754f935e3b691 = 'SFL-V&#111;ll&#101;yb&#97;ll' + '&#64;';
				addyd610
 229e3db20bcbee2754f935e3b691 = addyd610229e3db20bcbee2754f935e3b691 + 'gmx'
  + '&#46;' + 'd&#101;';
				var addy_textd610229e3db20bcbee2754f935e3b691 =
  'SFL-V&#111;ll&#101;yb&#97;ll' + '&#64;' + 'gmx' + '&#46;' + 'd&#101;';doc
 ument.getElementById('cloakd610229e3db20bcbee2754f935e3b691').innerHTML += 
 '<a ' + path + '\'' + prefix + ':' + addyd610229e3db20bcbee2754f935e3b691 +
  '\'>'+addy_textd610229e3db20bcbee2754f935e3b691+'<\/a>';
		</script></p>
DTSTAMP:20260420T143449Z
DTSTART;TZID=Europe/Berlin:20161204T080000
DTEND;TZID=Europe/Berlin:20161204T210000
SEQUENCE:0
TRANSP:OPAQUE
END:VEVENT
END:VCALENDAR