BEGIN:VCALENDAR
VERSION:2.0
PRODID:-//jEvents 2.0 for Joomla//EN
CALSCALE:GREGORIAN
METHOD:PUBLISH
BEGIN:VTIMEZONE
TZID:Europe/Berlin
BEGIN:STANDARD
DTSTART:20211031T020000
RDATE:20220327T030000
TZOFFSETFROM:+0200
TZOFFSETTO:+0100
TZNAME:Europe/Berlin CET
END:STANDARD
BEGIN:STANDARD
DTSTART:20221030T020000
RDATE:20230326T030000
TZOFFSETFROM:+0200
TZOFFSETTO:+0100
TZNAME:Europe/Berlin CET
END:STANDARD
BEGIN:STANDARD
DTSTART:20231029T020000
RDATE:20240331T030000
TZOFFSETFROM:+0200
TZOFFSETTO:+0100
TZNAME:Europe/Berlin CET
END:STANDARD
BEGIN:STANDARD
DTSTART:20241027T020000
RDATE:20250330T030000
TZOFFSETFROM:+0200
TZOFFSETTO:+0100
TZNAME:Europe/Berlin CET
END:STANDARD
BEGIN:STANDARD
DTSTART:20251026T020000
RDATE:20260329T030000
TZOFFSETFROM:+0200
TZOFFSETTO:+0100
TZNAME:Europe/Berlin CET
END:STANDARD
BEGIN:DAYLIGHT
DTSTART:20210727T000000
RDATE:20211031T020000
TZOFFSETFROM:+0100
TZOFFSETTO:+0200
TZNAME:Europe/Berlin CEST
END:DAYLIGHT
BEGIN:DAYLIGHT
DTSTART:20220327T030000
RDATE:20221030T020000
TZOFFSETFROM:+0100
TZOFFSETTO:+0200
TZNAME:Europe/Berlin CEST
END:DAYLIGHT
BEGIN:DAYLIGHT
DTSTART:20230326T030000
RDATE:20231029T020000
TZOFFSETFROM:+0100
TZOFFSETTO:+0200
TZNAME:Europe/Berlin CEST
END:DAYLIGHT
BEGIN:DAYLIGHT
DTSTART:20240331T030000
RDATE:20241027T020000
TZOFFSETFROM:+0100
TZOFFSETTO:+0200
TZNAME:Europe/Berlin CEST
END:DAYLIGHT
BEGIN:DAYLIGHT
DTSTART:20250330T030000
RDATE:20251026T020000
TZOFFSETFROM:+0100
TZOFFSETTO:+0200
TZNAME:Europe/Berlin CEST
END:DAYLIGHT
END:VTIMEZONE
BEGIN:VEVENT
UID:eab299ed8124b17590f5970b42874679
CATEGORIES:Volleyball
CREATED:20220709T223545
SUMMARY:Volleyball Ferienpass
LOCATION:Karl Marx Schule
DESCRIPTION;ENCODING=QUOTED-PRINTABLE:<p>Für euch...Volleyball 6-9 Jahre, 9-14 Jahre und ab 14 Jahre...Interesse?
  Meldet euch einfach <span id="cloakcdbd93d68f0bb6341683fb5d5f9b7565">Diese
  E-Mail-Adresse ist vor Spambots geschützt! Zur Anzeige muss JavaScript ein
 geschaltet sein!</span><script type='text/javascript'>
				document.getElem
 entById('cloakcdbd93d68f0bb6341683fb5d5f9b7565').innerHTML = '';
				var pr
 efix = '&#109;a' + 'i&#108;' + '&#116;o';
				var path = 'hr' + 'ef' + '=';
 
				var addycdbd93d68f0bb6341683fb5d5f9b7565 = 'V&#111;ll&#101;yb&#97;ll' 
 + '&#64;';
				addycdbd93d68f0bb6341683fb5d5f9b7565 = addycdbd93d68f0bb6341
 683fb5d5f9b7565 + 'v&#111;ll&#101;yb&#97;ll-w&#111;&#101;lf&#101;-br&#101;m
 &#101;rh&#97;v&#101;n' + '&#46;' + 'd&#101;';
				var addy_textcdbd93d68f0b
 b6341683fb5d5f9b7565 = 'V&#111;ll&#101;yb&#97;ll' + '&#64;' + 'v&#111;ll&#1
 01;yb&#97;ll-w&#111;&#101;lf&#101;-br&#101;m&#101;rh&#97;v&#101;n' + '&#46;
 ' + 'd&#101;';document.getElementById('cloakcdbd93d68f0bb6341683fb5d5f9b756
 5').innerHTML += '<a ' + path + '\'' + prefix + ':' + addycdbd93d68f0bb6341
 683fb5d5f9b7565 + '\'>'+addy_textcdbd93d68f0bb6341683fb5d5f9b7565+'<\/a>';

 		</script></p>
CONTACT:Diese E-Mail-Adresse ist vor Spambots geschützt! Zur Anzeige muss JavaScript eingeschaltet sein!
				document.getElementById('cloakff52e055604e038ada4a1420678730ac').innerHTML = '';
				var prefix = '&#109;a' + 'i&#108;' + '&#116;o';
				var path = 'hr' + 'ef' + '=';
				var addyff52e055604e038ada4a1420678730ac = 'v&#111;ll&#101;yb&#97;ll' + '&#64;';
				addyff52e055604e038ada4a1420678730ac = addyff52e055604e038ada4a1420678730ac + 'v&#111;ll&#101;yb&#97;ll-w&#111;&#101;lf&#101;-br&#101;m&#101;rh&#97;v&#101;n' + '&#46;' + 'd&#101;';
				var addy_textff52e055604e038ada4a1420678730ac = 'v&#111;ll&#101;yb&#97;ll' + '&#64;' + 'v&#111;ll&#101;yb&#97;ll-w&#111;&#101;lf&#101;-br&#101;m&#101;rh&#97;v&#101;n' + '&#46;' + 'd&#101;';document.getElementById('cloakff52e055604e038ada4a1420678730ac').innerHTML += ''+addy_textff52e055604e038ada4a1420678730ac+'';
		 
DTSTAMP:20260420T060133Z
DTSTART;TZID=Europe/Berlin;VALUE=DATE:20220728
DTEND;TZID=Europe/Berlin;VALUE=DATE:20220729
SEQUENCE:0
TRANSP:OPAQUE
END:VEVENT
END:VCALENDAR