BEGIN:VCALENDAR
VERSION:2.0
PRODID:-//jEvents 2.0 for Joomla//EN
CALSCALE:GREGORIAN
METHOD:PUBLISH
BEGIN:VTIMEZONE
TZID:Europe/Berlin
BEGIN:STANDARD
DTSTART:20211031T020000
RDATE:20220327T030000
TZOFFSETFROM:+0200
TZOFFSETTO:+0100
TZNAME:Europe/Berlin CET
END:STANDARD
BEGIN:STANDARD
DTSTART:20221030T020000
RDATE:20230326T030000
TZOFFSETFROM:+0200
TZOFFSETTO:+0100
TZNAME:Europe/Berlin CET
END:STANDARD
BEGIN:STANDARD
DTSTART:20231029T020000
RDATE:20240331T030000
TZOFFSETFROM:+0200
TZOFFSETTO:+0100
TZNAME:Europe/Berlin CET
END:STANDARD
BEGIN:STANDARD
DTSTART:20241027T020000
RDATE:20250330T030000
TZOFFSETFROM:+0200
TZOFFSETTO:+0100
TZNAME:Europe/Berlin CET
END:STANDARD
BEGIN:STANDARD
DTSTART:20251026T020000
RDATE:20260329T030000
TZOFFSETFROM:+0200
TZOFFSETTO:+0100
TZNAME:Europe/Berlin CET
END:STANDARD
BEGIN:DAYLIGHT
DTSTART:20210810T000000
RDATE:20211031T020000
TZOFFSETFROM:+0100
TZOFFSETTO:+0200
TZNAME:Europe/Berlin CEST
END:DAYLIGHT
BEGIN:DAYLIGHT
DTSTART:20220327T030000
RDATE:20221030T020000
TZOFFSETFROM:+0100
TZOFFSETTO:+0200
TZNAME:Europe/Berlin CEST
END:DAYLIGHT
BEGIN:DAYLIGHT
DTSTART:20230326T030000
RDATE:20231029T020000
TZOFFSETFROM:+0100
TZOFFSETTO:+0200
TZNAME:Europe/Berlin CEST
END:DAYLIGHT
BEGIN:DAYLIGHT
DTSTART:20240331T030000
RDATE:20241027T020000
TZOFFSETFROM:+0100
TZOFFSETTO:+0200
TZNAME:Europe/Berlin CEST
END:DAYLIGHT
BEGIN:DAYLIGHT
DTSTART:20250330T030000
RDATE:20251026T020000
TZOFFSETFROM:+0100
TZOFFSETTO:+0200
TZNAME:Europe/Berlin CEST
END:DAYLIGHT
END:VTIMEZONE
BEGIN:VEVENT
UID:eab299ed8124b17590f5970b42874679
CATEGORIES:Volleyball
CREATED:20220709T223545
SUMMARY:Volleyball Ferienpass
LOCATION:Karl Marx Schule
DESCRIPTION;ENCODING=QUOTED-PRINTABLE:\n\nFür euch...Volleyball 6-9 Jahre, 9-14 Jahre und ab 14 Jahre...Interesse
 ? Meldet euch einfach Diese E-Mail-Adresse ist vor Spambots geschützt! Zur 
 Anzeige muss JavaScript eingeschaltet sein!
				document.getElementById('cl
 oakd9589941bd1cd7f87fdc6d86153621bf').innerHTML = '';
				var prefix = '&#1
 09;a' + 'i&#108;' + '&#116;o';
				var path = 'hr' + 'ef' + '=';
				var ad
 dyd9589941bd1cd7f87fdc6d86153621bf = 'V&#111;ll&#101;yb&#97;ll' + '&#64;';

 				addyd9589941bd1cd7f87fdc6d86153621bf = addyd9589941bd1cd7f87fdc6d861536
 21bf + 'v&#111;ll&#101;yb&#97;ll-w&#111;&#101;lf&#101;-br&#101;m&#101;rh&#9
 7;v&#101;n' + '&#46;' + 'd&#101;';
				var addy_textd9589941bd1cd7f87fdc6d8
 6153621bf = 'V&#111;ll&#101;yb&#97;ll' + '&#64;' + 'v&#111;ll&#101;yb&#97;l
 l-w&#111;&#101;lf&#101;-br&#101;m&#101;rh&#97;v&#101;n' + '&#46;' + 'd&#101
 ;';document.getElementById('cloakd9589941bd1cd7f87fdc6d86153621bf').innerHT
 ML += ''+addy_textd9589941bd1cd7f87fdc6d86153621bf+'';
		\n
CONTACT:Diese E-Mail-Adresse ist vor Spambots geschützt! Zur Anzeige muss JavaScript eingeschaltet sein!
				document.getElementById('cloak6c9fc424b6ce6daa639cce37b23b6b35').innerHTML = '';
				var prefix = '&#109;a' + 'i&#108;' + '&#116;o';
				var path = 'hr' + 'ef' + '=';
				var addy6c9fc424b6ce6daa639cce37b23b6b35 = 'v&#111;ll&#101;yb&#97;ll' + '&#64;';
				addy6c9fc424b6ce6daa639cce37b23b6b35 = addy6c9fc424b6ce6daa639cce37b23b6b35 + 'v&#111;ll&#101;yb&#97;ll-w&#111;&#101;lf&#101;-br&#101;m&#101;rh&#97;v&#101;n' + '&#46;' + 'd&#101;';
				var addy_text6c9fc424b6ce6daa639cce37b23b6b35 = 'v&#111;ll&#101;yb&#97;ll' + '&#64;' + 'v&#111;ll&#101;yb&#97;ll-w&#111;&#101;lf&#101;-br&#101;m&#101;rh&#97;v&#101;n' + '&#46;' + 'd&#101;';document.getElementById('cloak6c9fc424b6ce6daa639cce37b23b6b35').innerHTML += ''+addy_text6c9fc424b6ce6daa639cce37b23b6b35+'';
		 
DTSTAMP:20260420T063750Z
DTSTART;TZID=Europe/Berlin;VALUE=DATE:20220811
DTEND;TZID=Europe/Berlin;VALUE=DATE:20220812
SEQUENCE:0
TRANSP:OPAQUE
END:VEVENT
END:VCALENDAR