BEGIN:VCALENDAR
VERSION:2.0
PRODID:-//jEvents 2.0 for Joomla//EN
CALSCALE:GREGORIAN
METHOD:PUBLISH
BEGIN:VTIMEZONE
TZID:Europe/Berlin
BEGIN:STANDARD
DTSTART:20211031T020000
RDATE:20220327T030000
TZOFFSETFROM:+0200
TZOFFSETTO:+0100
TZNAME:Europe/Berlin CET
END:STANDARD
BEGIN:STANDARD
DTSTART:20221030T020000
RDATE:20230326T030000
TZOFFSETFROM:+0200
TZOFFSETTO:+0100
TZNAME:Europe/Berlin CET
END:STANDARD
BEGIN:STANDARD
DTSTART:20231029T020000
RDATE:20240331T030000
TZOFFSETFROM:+0200
TZOFFSETTO:+0100
TZNAME:Europe/Berlin CET
END:STANDARD
BEGIN:STANDARD
DTSTART:20241027T020000
RDATE:20250330T030000
TZOFFSETFROM:+0200
TZOFFSETTO:+0100
TZNAME:Europe/Berlin CET
END:STANDARD
BEGIN:STANDARD
DTSTART:20251026T020000
RDATE:20260329T030000
TZOFFSETFROM:+0200
TZOFFSETTO:+0100
TZNAME:Europe/Berlin CET
END:STANDARD
BEGIN:DAYLIGHT
DTSTART:20210817T000000
RDATE:20211031T020000
TZOFFSETFROM:+0100
TZOFFSETTO:+0200
TZNAME:Europe/Berlin CEST
END:DAYLIGHT
BEGIN:DAYLIGHT
DTSTART:20220327T030000
RDATE:20221030T020000
TZOFFSETFROM:+0100
TZOFFSETTO:+0200
TZNAME:Europe/Berlin CEST
END:DAYLIGHT
BEGIN:DAYLIGHT
DTSTART:20230326T030000
RDATE:20231029T020000
TZOFFSETFROM:+0100
TZOFFSETTO:+0200
TZNAME:Europe/Berlin CEST
END:DAYLIGHT
BEGIN:DAYLIGHT
DTSTART:20240331T030000
RDATE:20241027T020000
TZOFFSETFROM:+0100
TZOFFSETTO:+0200
TZNAME:Europe/Berlin CEST
END:DAYLIGHT
BEGIN:DAYLIGHT
DTSTART:20250330T030000
RDATE:20251026T020000
TZOFFSETFROM:+0100
TZOFFSETTO:+0200
TZNAME:Europe/Berlin CEST
END:DAYLIGHT
END:VTIMEZONE
BEGIN:VEVENT
UID:eab299ed8124b17590f5970b42874679
CATEGORIES:Volleyball
CREATED:20220709T223545
SUMMARY:Volleyball Ferienpass
LOCATION:Karl Marx Schule
DESCRIPTION;ENCODING=QUOTED-PRINTABLE:\n\nFür euch...Volleyball 6-9 Jahre, 9-14 Jahre und ab 14 Jahre...Interesse
 ? Meldet euch einfach Diese E-Mail-Adresse ist vor Spambots geschützt! Zur 
 Anzeige muss JavaScript eingeschaltet sein!
				document.getElementById('cl
 oak0f9a91a066b360bbd45a6092517cc365').innerHTML = '';
				var prefix = '&#1
 09;a' + 'i&#108;' + '&#116;o';
				var path = 'hr' + 'ef' + '=';
				var ad
 dy0f9a91a066b360bbd45a6092517cc365 = 'V&#111;ll&#101;yb&#97;ll' + '&#64;';

 				addy0f9a91a066b360bbd45a6092517cc365 = addy0f9a91a066b360bbd45a6092517c
 c365 + 'v&#111;ll&#101;yb&#97;ll-w&#111;&#101;lf&#101;-br&#101;m&#101;rh&#9
 7;v&#101;n' + '&#46;' + 'd&#101;';
				var addy_text0f9a91a066b360bbd45a609
 2517cc365 = 'V&#111;ll&#101;yb&#97;ll' + '&#64;' + 'v&#111;ll&#101;yb&#97;l
 l-w&#111;&#101;lf&#101;-br&#101;m&#101;rh&#97;v&#101;n' + '&#46;' + 'd&#101
 ;';document.getElementById('cloak0f9a91a066b360bbd45a6092517cc365').innerHT
 ML += ''+addy_text0f9a91a066b360bbd45a6092517cc365+'';
		\n
CONTACT:Diese E-Mail-Adresse ist vor Spambots geschützt! Zur Anzeige muss JavaScript eingeschaltet sein!
				document.getElementById('cloak10faf9b0155dff18effcc8d8f1e1e357').innerHTML = '';
				var prefix = '&#109;a' + 'i&#108;' + '&#116;o';
				var path = 'hr' + 'ef' + '=';
				var addy10faf9b0155dff18effcc8d8f1e1e357 = 'v&#111;ll&#101;yb&#97;ll' + '&#64;';
				addy10faf9b0155dff18effcc8d8f1e1e357 = addy10faf9b0155dff18effcc8d8f1e1e357 + 'v&#111;ll&#101;yb&#97;ll-w&#111;&#101;lf&#101;-br&#101;m&#101;rh&#97;v&#101;n' + '&#46;' + 'd&#101;';
				var addy_text10faf9b0155dff18effcc8d8f1e1e357 = 'v&#111;ll&#101;yb&#97;ll' + '&#64;' + 'v&#111;ll&#101;yb&#97;ll-w&#111;&#101;lf&#101;-br&#101;m&#101;rh&#97;v&#101;n' + '&#46;' + 'd&#101;';document.getElementById('cloak10faf9b0155dff18effcc8d8f1e1e357').innerHTML += ''+addy_text10faf9b0155dff18effcc8d8f1e1e357+'';
		 
DTSTAMP:20260420T063730Z
DTSTART;TZID=Europe/Berlin;VALUE=DATE:20220818
DTEND;TZID=Europe/Berlin;VALUE=DATE:20220819
SEQUENCE:0
TRANSP:OPAQUE
END:VEVENT
END:VCALENDAR